BEGIN:VCALENDAR
VERSION:2.0
PRODID:-//Evergreen Museum - ECPv6.15.18//NONSGML v1.0//EN
CALSCALE:GREGORIAN
METHOD:PUBLISH
X-WR-CALNAME:Evergreen Museum
X-ORIGINAL-URL:https://www.evergreenmuseum.org
X-WR-CALDESC:Events for Evergreen Museum
REFRESH-INTERVAL;VALUE=DURATION:PT1H
X-Robots-Tag:noindex
X-PUBLISHED-TTL:PT1H
BEGIN:VTIMEZONE
TZID:America/Los_Angeles
BEGIN:DAYLIGHT
TZOFFSETFROM:-0800
TZOFFSETTO:-0700
TZNAME:PDT
DTSTART:20250309T100000
END:DAYLIGHT
BEGIN:STANDARD
TZOFFSETFROM:-0700
TZOFFSETTO:-0800
TZNAME:PST
DTSTART:20251102T090000
END:STANDARD
BEGIN:DAYLIGHT
TZOFFSETFROM:-0800
TZOFFSETTO:-0700
TZNAME:PDT
DTSTART:20260308T100000
END:DAYLIGHT
BEGIN:STANDARD
TZOFFSETFROM:-0700
TZOFFSETTO:-0800
TZNAME:PST
DTSTART:20261101T090000
END:STANDARD
BEGIN:DAYLIGHT
TZOFFSETFROM:-0800
TZOFFSETTO:-0700
TZNAME:PDT
DTSTART:20270314T100000
END:DAYLIGHT
BEGIN:STANDARD
TZOFFSETFROM:-0700
TZOFFSETTO:-0800
TZNAME:PST
DTSTART:20271107T090000
END:STANDARD
END:VTIMEZONE
BEGIN:VEVENT
DTSTART;TZID=America/Los_Angeles:20260517T130000
DTEND;TZID=America/Los_Angeles:20260517T163000
DTSTAMP:20260421T182741
CREATED:20260415T175341Z
LAST-MODIFIED:20260415T193537Z
UID:104724-1779022800-1779035400@www.evergreenmuseum.org
SUMMARY:UFO Festival Special Showing: Mars Attacks!
DESCRIPTION:In 1950 the small town of McMinnville\, Oregon was struck with UFO fever when a local couple spotted a flying disc over their farm\, making national news. 50 years later\, the fever descended again with the very first UFO festival. \nTo help celebrate this awesome annual McMinnville event\, we are going to be showing MARS ATTACKS! in our Aerodrome Giant Screen Theater on Sunday May 17th. in fact we will be offering a double feature:\nStarting with a 3D Space Documentary “Space: The New Frontier” featuring narration by Chris Pine\, followed by Tim Burton’s Mars Attacks! Starring: Jack Nicholson\, Annette Bening\, Jack Black\, Glenn Close\, Pierce Brosnan\, Michael J Fox\, and many many more…\n\n \n\nShow times: New Frontier @ 1:00PM and Mars Attacks @ 2:00PM\nDouble Feature Price: $7\nSingle Feature (Mars Attacks) Price: $5\n\nSo\, if you are looking for a way to keep the party going\, join us here at the museum. Be sure to wear your Alien Best and let the fun go on! \nPurchase Your Mars Attacks! Tickets in Advance (or at the theater that day). \n 
URL:https://www.evergreenmuseum.org/event/ufo-festival-special-showing-mars-attacks/
LOCATION:Evergreen Aerodrome Giant Screen Theater\, 490 NE Captain Michael King Smith Way\, McMInnville\, OR\, 97128\, United States
CATEGORIES:Special Event
ATTACH;FMTTYPE=image/jpeg:https://www.evergreenmuseum.org/wp-content/uploads/2026/04/marsattacks3.jpg
END:VEVENT
BEGIN:VEVENT
DTSTART;TZID=America/Los_Angeles:20260530T180000
DTEND;TZID=America/Los_Angeles:20260530T203000
DTSTAMP:20260421T182741
CREATED:20260415T164459Z
LAST-MODIFIED:20260415T171201Z
UID:104711-1780164000-1780173000@www.evergreenmuseum.org
SUMMARY:Afterburner
DESCRIPTION:An Evening of Fun\, Flavor\, Fighters and Flights! \nWhere: Evergreen Museum’s Titan Pavilion\nDate: Saturday\, May 30\, 2026\nTime: VIP and Sponsor Preview: 5:30 PM | General Admission: 6 PM\nAttire: Elevated casual/cocktail \nStep into an unforgettable evening where high performance meets high style. Explore iconic aircraft cockpits\, mingle with fighter pilots\, and experience the stories behind the machines that shaped aviation history. Enjoy small plates featuring delicious seafood and meats\, as well as whiskeys\, curated wines\, cocktails\, and mocktails from local purveyors. Proceeds will benefit the Innovation Fund at Evergreen Aviation & Space Museum. \nTickets are $85 (+ $5.41 Ticketing Fee) and include admission and two complimentary beverages. Tickets must be purchased in advance.\nClick Here to Purchase. \nQuestions? Please contact development@evergreenmuseum.org
URL:https://www.evergreenmuseum.org/event/afterburner/
LOCATION:Evergreen’s Titan Pavilion\, 510 NE Capt. Michael King Smith WAY\,\, McMinnville\, OR\, 97128\, United States
CATEGORIES:Special Event
ATTACH;FMTTYPE=image/jpeg:https://www.evergreenmuseum.org/wp-content/uploads/2026/04/Afterburner-invite_r4-600px-horiz-1.jpg
END:VEVENT
BEGIN:VEVENT
DTSTART;TZID=America/Los_Angeles:20260621T110000
DTEND;TZID=America/Los_Angeles:20260621T160000
DTSTAMP:20260421T182741
CREATED:20260415T233602Z
LAST-MODIFIED:20260415T233602Z
UID:104735-1782039600-1782057600@www.evergreenmuseum.org
SUMMARY:Father's Day - Stealth & Speed Fair
DESCRIPTION:Father’s Day 2026 – Stealth & Speed Fair!\nSUNDAY 6/21 from 11:00AM to 4:00PM \nAs many of our guests know\, we hold a biannual SR-71 Symposium every other year (on the odd year). Since 2026 is an even year\, we have to wait until 2027 for the next SR-71 Symposium event to return. However\, we do plan to have a special father’s day event this year dedicated to celebrating our collection of Lockheed Martin Skunk Works aircraft (SR-71 Blackbird\, F-117 Nighthawk\, F-104 Starfighter\, and the D-21 Supersonic Recon Drone); we like to call it our Stealth & Speed Fair! \nOur Father’s Day ‘Speed & Stealth Fair’ offers guests a chance to experience the world of Skunk Works design. \n\nGuests will have a rare opportunity to peek in the cockpits of our F-117 Nighthawk and SR-71 Blackbird.  \nMeet the techs and experts that made them go.\nLearn more about what and who makes Lockheed Martins’ Skunkworks so amazingly successful.\nGet special Father’s Day Discounts on cool gear from our Gift Shop.\n\nThe event is free with paid regular admissions.
URL:https://www.evergreenmuseum.org/event/fathers-day-stealth-speed-fair/
LOCATION:Evergreen’s Titan Pavilion\, 510 NE Capt. Michael King Smith WAY\,\, McMinnville\, OR\, 97128\, United States
END:VEVENT
END:VCALENDAR