BEGIN:VCALENDAR
VERSION:2.0
PRODID:-//Evergreen Museum - ECPv6.15.18//NONSGML v1.0//EN
CALSCALE:GREGORIAN
METHOD:PUBLISH
X-ORIGINAL-URL:https://www.evergreenmuseum.org
X-WR-CALDESC:Events for Evergreen Museum
REFRESH-INTERVAL;VALUE=DURATION:PT1H
X-Robots-Tag:noindex
X-PUBLISHED-TTL:PT1H
BEGIN:VTIMEZONE
TZID:America/Los_Angeles
BEGIN:DAYLIGHT
TZOFFSETFROM:-0800
TZOFFSETTO:-0700
TZNAME:PDT
DTSTART:20220313T100000
END:DAYLIGHT
BEGIN:STANDARD
TZOFFSETFROM:-0700
TZOFFSETTO:-0800
TZNAME:PST
DTSTART:20221106T090000
END:STANDARD
BEGIN:DAYLIGHT
TZOFFSETFROM:-0800
TZOFFSETTO:-0700
TZNAME:PDT
DTSTART:20230312T100000
END:DAYLIGHT
BEGIN:STANDARD
TZOFFSETFROM:-0700
TZOFFSETTO:-0800
TZNAME:PST
DTSTART:20231105T090000
END:STANDARD
BEGIN:DAYLIGHT
TZOFFSETFROM:-0800
TZOFFSETTO:-0700
TZNAME:PDT
DTSTART:20240310T100000
END:DAYLIGHT
BEGIN:STANDARD
TZOFFSETFROM:-0700
TZOFFSETTO:-0800
TZNAME:PST
DTSTART:20241103T090000
END:STANDARD
END:VTIMEZONE
BEGIN:VEVENT
DTSTART;TZID=America/Los_Angeles:20230919T140000
DTEND;TZID=America/Los_Angeles:20230919T150000
DTSTAMP:20260421T021003
CREATED:20230322T223540Z
LAST-MODIFIED:20230630T191739Z
UID:16712-1695132000-1695135600@www.evergreenmuseum.org
SUMMARY:Storytellers Series: The Europa Clipper – Making a detailed study of Jupiter's moon and its potential ocean
DESCRIPTION:Presenters: John Jennings and Donn Anderson \nPlanned for launch in October of 2024 onboard a SpaceX Falcon Heavy booster\, the Europa Clipper is an interplanetary spaceflight to the Galilean moon Europa. This spacecraft will perform follow-up studies to those made by the Galileo spacecraft during its 8 years orbiting Jupiter. Of specific interest is the possible existence of a subsurface ocean underneath Europa’s icy crust! \nLocation: Space Museum Galaxy Theater\n \nCost: Included with Admission
URL:https://www.evergreenmuseum.org/event/the-storytellers-series-space-junk-2-2-2-2-2-3-2-2-2-2-2/
LOCATION:OR
CATEGORIES:Docent Presentations
ATTACH;FMTTYPE=image/jpeg:https://www.evergreenmuseum.org/wp-content/uploads/2023/03/EuropaClipper_Poster_08_2020_002_2_-scaled.jpg
END:VEVENT
BEGIN:VEVENT
DTSTART;VALUE=DATE:20230923
DTEND;VALUE=DATE:20230925
DTSTAMP:20260421T021004
CREATED:20230512T223047Z
LAST-MODIFIED:20230512T223520Z
UID:17991-1695427200-1695599999@www.evergreenmuseum.org
SUMMARY:Bike MS: Oregon
DESCRIPTION:New routes\, new venue\, and a new adventure.  \nThe Bike MS team is excited to announce Bike MS: Oregon is moving to McMinnville in 2023!\nNestled in the heart of Oregon’s wine country and 40 miles outside of Portland\, our new host town is a warm\, inviting\, friendly getaway destination. With all new routes\, you’ll pedal past vineyards\, cross creeks and have relaxing pastoral farmland views. The scenic wine country roads make McMinnville a destination for cyclists of all abilities. Our Rider Village is also taking flight with an exciting new venue and partner\, Evergreen Aviation & Space Museum. \nWe are excited to start our new Bike MS adventure together in McMinnville and continue changing the world for people with MS\, one pedal stroke at a time. \nRegister or start a team today to be a part of an excellent event and help us find a cure for MS! Please contact the Bike MS Oregon team for details or questions about the event at emily.rios@nmss.org. \nWhen: September 23-24\, 2003\nTimes: Saturday: 6:30 am – 9pm; Sunday: 7:00 am-Noon\nWhere: Evergreen Aviation and Space Museum (follow signs for Bike MS)\nEvergreen Space Museum\n510 NE Captain Michael King Smith Way\nMcMinnville\, OR 97128 United States + Google Map \nRegister here.  \n 
URL:https://www.evergreenmuseum.org/event/bike-ms-oregon/
LOCATION:OR
CATEGORIES:Non-Profit Fundraiser
ATTACH;FMTTYPE=image/jpeg:https://www.evergreenmuseum.org/wp-content/uploads/2023/05/Bike-MS.jpg
END:VEVENT
BEGIN:VEVENT
DTSTART;TZID=America/Los_Angeles:20230929T120000
DTEND;TZID=America/Los_Angeles:20230929T170000
DTSTAMP:20260421T021004
CREATED:20230711T223104Z
LAST-MODIFIED:20230711T223952Z
UID:19667-1695988800-1696006800@www.evergreenmuseum.org
SUMMARY:Air Show Watch Party 2023 - Friday Passes
DESCRIPTION:Watch the Oregon International Air Show featuring the Blue Angels from the Evergreen Aviation & Space Museum! \nFrom September 29 – October 1\, the Oregon International Air Show will be taking place across the highway from the Museum at the McMinnville Airport. Buy passes for our Air Show Watch Party to experience an amazing vantage point\, have access to the Museum\, and enjoy a variety of food and beverage vendors on-site. \nOne Air Show Watch Party Pass includes up to five (5) admissions to the Evergreen Air ShowWatch Party and the Evergreen Aviation & Space Museum\, with parking included. Seating is lawn seating\, which is first come\, first serve. (Access to the McMinnville Airport & official air showevent are not included with this Evergreen Aviation & Space Museum offer.) Early bird pricing for Friday ticket starts at $80 per Air Show Watch Party Pass with dynamic pricing in effect. \nWhen you buy an Air Show Watch Party Pass\, you have access to $25 off a Museum Membership\, Individual or Family. Museum Membership gives you access to an exclusive\, Members-only area at the Watch Party\, along with all the benefits of being a member! \nLearn more about Museum Membership here. \nPurchase Friday Tickets
URL:https://www.evergreenmuseum.org/event/air-show-watch-party-2023-friday-tickets/
LOCATION:Evergreen Aviation & Space Museum\, 500 NE Captain Michael King Smith Way\, McMinnville\, OR\, 97128\, United States
ATTACH;FMTTYPE=image/png:https://www.evergreenmuseum.org/wp-content/uploads/2023/07/81DB5742-9857-4987-BADC-5E904666F46E.png
END:VEVENT
BEGIN:VEVENT
DTSTART;TZID=America/Los_Angeles:20230930T090000
DTEND;TZID=America/Los_Angeles:20230930T170000
DTSTAMP:20260421T021004
CREATED:20230711T223936Z
LAST-MODIFIED:20230927T202043Z
UID:19680-1696064400-1696093200@www.evergreenmuseum.org
SUMMARY:Air Show Watch Party 2023 - Saturday Pass
DESCRIPTION:Watch the Oregon International Air Show featuring the Blue Angels from the Evergreen Aviation & Space Museum! \nFrom September 29 – October 1\, the Oregon International Air Show will be taking place across the highway from the Museum at the McMinnville Airport. Buy passes for our Air Show Watch Party to experience an amazing vantage point\, have access to the Museum\, and enjoy a variety of food and beverage vendors on-site. \nEach Air Show Watch Party Pass includes up to five (5) admissions to the Evergreen Air Show Watch Party and the Evergreen Aviation & Space Museum\, with parking included. Seating is lawn seating\, which is first come\, first serve. (Access to the McMinnville Airport & official air show event are not included with this Evergreen Aviation & Space Museum offer.) Early bird pricing for Saturday passes start at $100 per Air Show Watch Party Pass with dynamic pricing in effect. \nWhen you buy an Air Show Watch Party Pass\, you have access to $25 off a Museum Membership\, Individual or Family. Museum Membership gives you access to an exclusive\, Members-only area at the Watch Party\, along with all the benefits of being a member! \nLearn more about Museum Membership here. \nPurchase Saturday Tickets
URL:https://www.evergreenmuseum.org/event/air-show-watch-party-2023-saturday-pass/
LOCATION:OR
ATTACH;FMTTYPE=image/png:https://www.evergreenmuseum.org/wp-content/uploads/2023/07/9B053CB9-58F9-410E-97CA-1CB1F517BF8D.png
END:VEVENT
END:VCALENDAR