BEGIN:VCALENDAR
VERSION:2.0
PRODID:-//Evergreen Museum - ECPv6.15.18//NONSGML v1.0//EN
CALSCALE:GREGORIAN
METHOD:PUBLISH
X-WR-CALNAME:Evergreen Museum
X-ORIGINAL-URL:https://www.evergreenmuseum.org
X-WR-CALDESC:Events for Evergreen Museum
REFRESH-INTERVAL;VALUE=DURATION:PT1H
X-Robots-Tag:noindex
X-PUBLISHED-TTL:PT1H
BEGIN:VTIMEZONE
TZID:America/Los_Angeles
BEGIN:DAYLIGHT
TZOFFSETFROM:-0800
TZOFFSETTO:-0700
TZNAME:PDT
DTSTART:20220313T100000
END:DAYLIGHT
BEGIN:STANDARD
TZOFFSETFROM:-0700
TZOFFSETTO:-0800
TZNAME:PST
DTSTART:20221106T090000
END:STANDARD
BEGIN:DAYLIGHT
TZOFFSETFROM:-0800
TZOFFSETTO:-0700
TZNAME:PDT
DTSTART:20230312T100000
END:DAYLIGHT
BEGIN:STANDARD
TZOFFSETFROM:-0700
TZOFFSETTO:-0800
TZNAME:PST
DTSTART:20231105T090000
END:STANDARD
BEGIN:DAYLIGHT
TZOFFSETFROM:-0800
TZOFFSETTO:-0700
TZNAME:PDT
DTSTART:20240310T100000
END:DAYLIGHT
BEGIN:STANDARD
TZOFFSETFROM:-0700
TZOFFSETTO:-0800
TZNAME:PST
DTSTART:20241103T090000
END:STANDARD
BEGIN:DAYLIGHT
TZOFFSETFROM:-0800
TZOFFSETTO:-0700
TZNAME:PDT
DTSTART:20250309T100000
END:DAYLIGHT
BEGIN:STANDARD
TZOFFSETFROM:-0700
TZOFFSETTO:-0800
TZNAME:PST
DTSTART:20251102T090000
END:STANDARD
END:VTIMEZONE
BEGIN:VEVENT
DTSTART;TZID=America/Los_Angeles:20231215T163000
DTEND;TZID=America/Los_Angeles:20231230T200000
DTSTAMP:20260421T061946
CREATED:20231024T232757Z
LAST-MODIFIED:20231213T194915Z
UID:21937-1702657800-1703966400@www.evergreenmuseum.org
SUMMARY:Holidays at the Hangar 2023
DESCRIPTION:Join Evergreen Aviation & Space Museum for their annual Holidays at the Hangar Event from December 15 – 30\, from 4:30 – 8pm daily. (*Closed Christmas Eve & Christmas Day)\nBuy TicketsDetails\nEvergreen Aviation & Space Museum is excited to bring back our annual Holidays at the Hangar event\, from December 15 -30 in the Evergreen Aviation Museum. This event is an incredible indoor holiday light spectacle\, with different exhibits with different lighting decorations. This year\, local businesses are sponsoring different aircraft\, and they are able to decorate a plane with their creative touch. We wanted to bring in the local community aspect to promote Yamhill County so our visitors can get a taste of what makes McMinnville and our Museum so special. \nSanta is trading in his sleigh for a helicopter this year. Watch Santa fly in on a Precision Aviation helicopter during the weekends.\nHelicopter Santa Schedule\n\n\nFriday\, Saturday & Sunday\, December 15 – 17 – 4:45 PM\n\n\nFriday & Saturday\, December 22 – 23 – 4:45 PM\n\n\nThank you to our sponsors!\n	\n		\n								\n			\n	\n		\n								\n			\n	\n		\n								\n			\n	\n		\n								\n			\n	\n		\n								\n			\n	\n		\n								\n			\n	\n		\n								\n			\n	\n		\n								\n			\n	\n		\n								\n			\n	\n		\n								\n			\n	\n		\n								\n			\n	\n		\n			\n		\n	\n		\n	Previous Holidays at the Hangars
URL:https://www.evergreenmuseum.org/event/holidays-at-the-hangar-2023/
LOCATION:Aviation Museum\, 500 NE Captain MIchael King Smith Way\, McMinnville\, OR\, 97128\, United States
CATEGORIES:HATH
ATTACH;FMTTYPE=image/png:https://www.evergreenmuseum.org/wp-content/uploads/2023/10/HATH-Event-Logo-e1702408159499.png
END:VEVENT
BEGIN:VEVENT
DTSTART;TZID=America/Los_Angeles:20231217T150000
DTEND;TZID=America/Los_Angeles:20231217T163000
DTSTAMP:20260421T061946
CREATED:20231110T192358Z
LAST-MODIFIED:20231213T004316Z
UID:22339-1702825200-1702830600@www.evergreenmuseum.org
SUMMARY:Celebrate 120 Years of Flight
DESCRIPTION:BUY TICKETS\nThe Aviation and Space Museums will be open during normal operating hours to invite event ticket holders to explore legendary exhibits prior to the celebration. Ticket holders are invited to be seated in our Giant Screen Theater by 3pm to enjoy the celebration’s live speaking engagements.  Private pilot and KOIN’s Chief Meteorologist Natasha Stenbock will share her passion for flight and introduce retired Navy Blue Angel pilot Greg “Boss” Wooldridge. \nGreg Wooldridge is the only Naval Aviator to serve as commanding officer of the the U.S. Navy Blue Angels three separate times. Greg will share his insights on the the history of aviation\, his own experiences\, and the lasting impacts of his favorite aerospace heroes over the last 120 years. \nA limited number of VIP ticket holders will have a chance to meet Greg in person for pictures and autographs at the conclusion of the celebration. \n       
URL:https://www.evergreenmuseum.org/event/celebrate-120-years-of-flight-2/
LOCATION:Evergreen Giant Screen Theater\, 490 NE Michael King Smith Way\, McMinnville\, OR\, 97128\, United States
ATTACH;FMTTYPE=image/jpeg:https://www.evergreenmuseum.org/wp-content/uploads/2023/12/120th-Event-2023-Tile-2.jpg
END:VEVENT
BEGIN:VEVENT
DTSTART;TZID=America/Los_Angeles:20231219T140000
DTEND;TZID=America/Los_Angeles:20231219T150000
DTSTAMP:20260421T061946
CREATED:20230630T230940Z
LAST-MODIFIED:20230630T230940Z
UID:19433-1702994400-1702998000@www.evergreenmuseum.org
SUMMARY:Storytellers Series: Nasa’s Innovative Artemis CLPS Initiative
DESCRIPTION:Presenters: John Jennings and Donn Anderson \nAs part of NASA’s Artemis moon program\, CLPS\, which stands for Commercial Lunar Payload Services\, is designed to establish private sector lunar lander services to deliver small and medium sized scientific payloads and technology demonstrations to the Moon’s surface. Come learn more about this plan to use commercial capabilities for scientific exploration\, technology development\, and resource prospecting on the Moon\, enabling a sustainable and long term presence on our nearest neighbor in space!\n\nLocation: Space Museum Galaxy Theater\n \nCost: Included with Admission
URL:https://www.evergreenmuseum.org/event/storytellers-series-nasas-innovative-artemis-clps-initiative/
LOCATION:OR
CATEGORIES:Docent Presentations
ATTACH;FMTTYPE=image/jpeg:https://www.evergreenmuseum.org/wp-content/uploads/2023/06/spacex_1.jpg
END:VEVENT
BEGIN:VEVENT
DTSTART;VALUE=DATE:20231123
DTEND;VALUE=DATE:20231124
DTSTAMP:20260421T061946
CREATED:20230111T171719Z
LAST-MODIFIED:20230111T171900Z
UID:14362-1700697600-1700783999@www.evergreenmuseum.org
SUMMARY:Museum Closed for Holiday Observances
DESCRIPTION:Evergreen Aviation & Space Museum is Closed for observance of Thanksgiving\,  Christmas Eve\, & Christmas Day.
URL:https://www.evergreenmuseum.org/event/museum-closed-for-holiday-observances-2/
LOCATION:OR
END:VEVENT
BEGIN:VEVENT
DTSTART;VALUE=DATE:20231123
DTEND;VALUE=DATE:20231124
DTSTAMP:20260421T061946
CREATED:20230111T171719Z
LAST-MODIFIED:20230111T171900Z
UID:14362-1700697600-1700783999@www.evergreenmuseum.org
SUMMARY:Museum Closed for Holiday Observances
DESCRIPTION:Evergreen Aviation & Space Museum is Closed for observance of Thanksgiving\,  Christmas Eve\, & Christmas Day.
URL:https://www.evergreenmuseum.org/event/museum-closed-for-holiday-observances-2/
LOCATION:OR
END:VEVENT
BEGIN:VEVENT
DTSTART;TZID=America/Los_Angeles:20231231T190000
DTEND;TZID=America/Los_Angeles:20240101T010000
DTSTAMP:20260421T061946
CREATED:20231212T190622Z
LAST-MODIFIED:20231227T194946Z
UID:22950-1704049200-1704070800@www.evergreenmuseum.org
SUMMARY:New Year's Eve 1940s Hangar Dance w/ Live Big Band
DESCRIPTION:Swing in the new year with a 1940s Big Band Hangar Dance at Evergreen Aviation & Space Museum! All proceeds will benefit the Museum. \n\nGot Your Six Aviation and Evergreen Aviation & Space Museum proudly present the 2023 New Year’s Eve Big Band Hangar Dance beneath the Spruce Goose at Evergreen Aviation Museum! \nAll proceeds from this event will go directly to benefit the Evergreen Aviation & Space Museum (EASM) and its many programs. Please join us for a glamourous New Year’s Eve to remember! \n\n \nPurchase Tickets \n\nGuests are encouraged to where cocktail attire\, but if you really want to dress to impress\, then by all means  put on your  1940s retro attire and represent the Golden Era of Aviation\, and enjoy an evening of mingling and frivolity to celebrate the new year! Stroll the Historic Aviation Museum and marvel at the grandeur of Howard Hughes’ H-4 Hercules (“The Spruce Goose”) and numerous vintage aircraft and exhibits. Dance to the ’40s tunes of live 17-piece “Jumptown Big Band” beneath the glimmering shadow of the Spruce Goose. Enjoy drinks and hors d’oeuvres while striking a pose for our professional photographer. Then\, for the big finale\, ring in 2024 with a hosted champagne toast and savor the memory of an unforgettable evening! \nThis event is for adults only (must be age 18 or older). Please bring ID for entry.  \nCome dressed in vintage-inspired cocktail attire for the “1940s hangar dance” theme.(Vintage cocktail attire is encouraged\, but not required. Please no jeans or tennis shoes.) \nTicket price include appetizers\, non-alcoholic drinks\, and a hosted midnight champagne toast. Beer and wine will be available to purchase at your leisure. Bartenders will check ID per OLCC guidelines. \nFeel free to reach out to Event Coordinator\, Got Your Six Aviation (info@GotYourSixAviation.com)\, if you have any questions regarding the event. We are so excited to celebrate with you while benefitting the Evergreen Aviation & Space Museum! Cheers! \n\nPurchase Tickets
URL:https://www.evergreenmuseum.org/event/new-years-eve-1940s-hangar-dance-with-live-big-band/
LOCATION:Evergreen Aviation & Space Museum\, 500 NE Captain Michael King Smith Way\, McMinnville\, OR\, 97128\, United States
ATTACH;FMTTYPE=image/jpeg:https://www.evergreenmuseum.org/wp-content/uploads/2023/12/NYE-Poster.jpg
ORGANIZER;CN="Got Your Six Aviation":MAILTO:info@GotYourSixAviation.com
END:VEVENT
END:VCALENDAR