BEGIN:VCALENDAR
VERSION:2.0
PRODID:-//Evergreen Museum - ECPv6.15.18//NONSGML v1.0//EN
CALSCALE:GREGORIAN
METHOD:PUBLISH
X-WR-CALNAME:Evergreen Museum
X-ORIGINAL-URL:https://www.evergreenmuseum.org
X-WR-CALDESC:Events for Evergreen Museum
REFRESH-INTERVAL;VALUE=DURATION:PT1H
X-Robots-Tag:noindex
X-PUBLISHED-TTL:PT1H
BEGIN:VTIMEZONE
TZID:America/Los_Angeles
BEGIN:DAYLIGHT
TZOFFSETFROM:-0800
TZOFFSETTO:-0700
TZNAME:PDT
DTSTART:20220313T100000
END:DAYLIGHT
BEGIN:STANDARD
TZOFFSETFROM:-0700
TZOFFSETTO:-0800
TZNAME:PST
DTSTART:20221106T090000
END:STANDARD
BEGIN:DAYLIGHT
TZOFFSETFROM:-0800
TZOFFSETTO:-0700
TZNAME:PDT
DTSTART:20230312T100000
END:DAYLIGHT
BEGIN:STANDARD
TZOFFSETFROM:-0700
TZOFFSETTO:-0800
TZNAME:PST
DTSTART:20231105T090000
END:STANDARD
BEGIN:DAYLIGHT
TZOFFSETFROM:-0800
TZOFFSETTO:-0700
TZNAME:PDT
DTSTART:20240310T100000
END:DAYLIGHT
BEGIN:STANDARD
TZOFFSETFROM:-0700
TZOFFSETTO:-0800
TZNAME:PST
DTSTART:20241103T090000
END:STANDARD
BEGIN:DAYLIGHT
TZOFFSETFROM:-0800
TZOFFSETTO:-0700
TZNAME:PDT
DTSTART:20250309T100000
END:DAYLIGHT
BEGIN:STANDARD
TZOFFSETFROM:-0700
TZOFFSETTO:-0800
TZNAME:PST
DTSTART:20251102T090000
END:STANDARD
END:VTIMEZONE
BEGIN:VEVENT
DTSTART;TZID=America/Los_Angeles:20231231T190000
DTEND;TZID=America/Los_Angeles:20240101T010000
DTSTAMP:20260421T075626
CREATED:20231212T190622Z
LAST-MODIFIED:20231227T194946Z
UID:22950-1704049200-1704070800@www.evergreenmuseum.org
SUMMARY:New Year's Eve 1940s Hangar Dance w/ Live Big Band
DESCRIPTION:Swing in the new year with a 1940s Big Band Hangar Dance at Evergreen Aviation & Space Museum! All proceeds will benefit the Museum. \n\nGot Your Six Aviation and Evergreen Aviation & Space Museum proudly present the 2023 New Year’s Eve Big Band Hangar Dance beneath the Spruce Goose at Evergreen Aviation Museum! \nAll proceeds from this event will go directly to benefit the Evergreen Aviation & Space Museum (EASM) and its many programs. Please join us for a glamourous New Year’s Eve to remember! \n\n \nPurchase Tickets \n\nGuests are encouraged to where cocktail attire\, but if you really want to dress to impress\, then by all means  put on your  1940s retro attire and represent the Golden Era of Aviation\, and enjoy an evening of mingling and frivolity to celebrate the new year! Stroll the Historic Aviation Museum and marvel at the grandeur of Howard Hughes’ H-4 Hercules (“The Spruce Goose”) and numerous vintage aircraft and exhibits. Dance to the ’40s tunes of live 17-piece “Jumptown Big Band” beneath the glimmering shadow of the Spruce Goose. Enjoy drinks and hors d’oeuvres while striking a pose for our professional photographer. Then\, for the big finale\, ring in 2024 with a hosted champagne toast and savor the memory of an unforgettable evening! \nThis event is for adults only (must be age 18 or older). Please bring ID for entry.  \nCome dressed in vintage-inspired cocktail attire for the “1940s hangar dance” theme.(Vintage cocktail attire is encouraged\, but not required. Please no jeans or tennis shoes.) \nTicket price include appetizers\, non-alcoholic drinks\, and a hosted midnight champagne toast. Beer and wine will be available to purchase at your leisure. Bartenders will check ID per OLCC guidelines. \nFeel free to reach out to Event Coordinator\, Got Your Six Aviation (info@GotYourSixAviation.com)\, if you have any questions regarding the event. We are so excited to celebrate with you while benefitting the Evergreen Aviation & Space Museum! Cheers! \n\nPurchase Tickets
URL:https://www.evergreenmuseum.org/event/new-years-eve-1940s-hangar-dance-with-live-big-band/
LOCATION:Evergreen Aviation & Space Museum\, 500 NE Captain Michael King Smith Way\, McMinnville\, OR\, 97128\, United States
ATTACH;FMTTYPE=image/jpeg:https://www.evergreenmuseum.org/wp-content/uploads/2023/12/NYE-Poster.jpg
ORGANIZER;CN="Got Your Six Aviation":MAILTO:info@GotYourSixAviation.com
END:VEVENT
BEGIN:VEVENT
DTSTART;TZID=America/Los_Angeles:20240116T140000
DTEND;TZID=America/Los_Angeles:20240116T140000
DTSTAMP:20260421T075626
CREATED:20240110T190416Z
LAST-MODIFIED:20240110T191130Z
UID:23631-1705413600-1705413600@www.evergreenmuseum.org
SUMMARY:Storytellers Series: OSIRIS-REx: To the Asteroid Bennu and Back Again
DESCRIPTION:Presenter: Donn Anderson \n\nNASA’s OSIRIS-REx (Origins\, Spectral Interpretation\, Resource Identification\, Security – Regolith Explorer) is the first U.S. space mission to orbit a near Earth asteroid and return a sample from it safely to Earth. This seven year mission to Bennu successfully landed its capsule last September. Analyzing the on board sample will help scientists understand the early solar system\, as well as the hazards and resources of near-Earth space. How did the mission go and what have we learned from it so far? \n\nLocation: Space Museum Galaxy Theater\n \nCost: Included with Admission
URL:https://www.evergreenmuseum.org/event/storytellers-series-psyche-nasas-mission-to-the-largest-metal-asteroid-2/
LOCATION:OR
CATEGORIES:Docent Presentations
ATTACH;FMTTYPE=image/png:https://www.evergreenmuseum.org/wp-content/uploads/2024/01/osiris-rex-mission-logo12_copy-624x538-1.png
END:VEVENT
END:VCALENDAR