BEGIN:VCALENDAR
VERSION:2.0
PRODID:-//Evergreen Museum - ECPv6.15.18//NONSGML v1.0//EN
CALSCALE:GREGORIAN
METHOD:PUBLISH
X-ORIGINAL-URL:https://www.evergreenmuseum.org
X-WR-CALDESC:Events for Evergreen Museum
REFRESH-INTERVAL;VALUE=DURATION:PT1H
X-Robots-Tag:noindex
X-PUBLISHED-TTL:PT1H
BEGIN:VTIMEZONE
TZID:America/Los_Angeles
BEGIN:DAYLIGHT
TZOFFSETFROM:-0800
TZOFFSETTO:-0700
TZNAME:PDT
DTSTART:20230312T100000
END:DAYLIGHT
BEGIN:STANDARD
TZOFFSETFROM:-0700
TZOFFSETTO:-0800
TZNAME:PST
DTSTART:20231105T090000
END:STANDARD
BEGIN:DAYLIGHT
TZOFFSETFROM:-0800
TZOFFSETTO:-0700
TZNAME:PDT
DTSTART:20240310T100000
END:DAYLIGHT
BEGIN:STANDARD
TZOFFSETFROM:-0700
TZOFFSETTO:-0800
TZNAME:PST
DTSTART:20241103T090000
END:STANDARD
BEGIN:DAYLIGHT
TZOFFSETFROM:-0800
TZOFFSETTO:-0700
TZNAME:PDT
DTSTART:20250309T100000
END:DAYLIGHT
BEGIN:STANDARD
TZOFFSETFROM:-0700
TZOFFSETTO:-0800
TZNAME:PST
DTSTART:20251102T090000
END:STANDARD
END:VTIMEZONE
BEGIN:VEVENT
DTSTART;TZID=America/Los_Angeles:20240215T180000
DTEND;TZID=America/Los_Angeles:20240215T190000
DTSTAMP:20260421T091718
CREATED:20240215T175422Z
LAST-MODIFIED:20240215T184054Z
UID:24103-1708020000-1708023600@www.evergreenmuseum.org
SUMMARY:The Life & Times of Bessie Coleman - The First Black Female and First Native American Pilot
DESCRIPTION:Join us as we explore Bessie Coleman’s pioneering journey to become the first Black woman and first Native American to earn a pilot’s license. Coleman’s inspiring life story\, related through a live theatrical performance by her great-niece Gigi Coleman\, encourages individuals to achieve their dreams. \nWHEN: Feb. 15th 6:00PM – 7:00PM and Feb. 16th 10:00AM to 11:00AM\nWHERE: Evergreen Theater\nPRICE: Free to Museum Members. $10 General Admission \nBuy Tickets
URL:https://www.evergreenmuseum.org/event/the-life-times-of-bessie-coleman-the-first-black-female-and-first-native-american-pilot/
LOCATION:OR
CATEGORIES:Education
ATTACH;FMTTYPE=image/jpeg:https://www.evergreenmuseum.org/wp-content/uploads/2023/01/bessie-coleman-2023.jpg
END:VEVENT
BEGIN:VEVENT
DTSTART;TZID=America/Los_Angeles:20240215T180000
DTEND;TZID=America/Los_Angeles:20240215T190000
DTSTAMP:20260421T091718
CREATED:20240215T175422Z
LAST-MODIFIED:20240215T184054Z
UID:24103-1708020000-1708023600@www.evergreenmuseum.org
SUMMARY:The Life & Times of Bessie Coleman - The First Black Female and First Native American Pilot
DESCRIPTION:Join us as we explore Bessie Coleman’s pioneering journey to become the first Black woman and first Native American to earn a pilot’s license. Coleman’s inspiring life story\, related through a live theatrical performance by her great-niece Gigi Coleman\, encourages individuals to achieve their dreams. \nWHEN: Feb. 15th 6:00PM – 7:00PM and Feb. 16th 10:00AM to 11:00AM\nWHERE: Evergreen Theater\nPRICE: Free to Museum Members. $10 General Admission \nBuy Tickets
URL:https://www.evergreenmuseum.org/event/the-life-times-of-bessie-coleman-the-first-black-female-and-first-native-american-pilot/
LOCATION:OR
CATEGORIES:Education
ATTACH;FMTTYPE=image/jpeg:https://www.evergreenmuseum.org/wp-content/uploads/2023/01/bessie-coleman-2023.jpg
END:VEVENT
BEGIN:VEVENT
DTSTART;TZID=America/Los_Angeles:20240216T100000
DTEND;TZID=America/Los_Angeles:20240216T150000
DTSTAMP:20260421T091718
CREATED:20240130T215201Z
LAST-MODIFIED:20240130T215201Z
UID:24105-1708077600-1708095600@www.evergreenmuseum.org
SUMMARY:1-Day Barnstormer Camp
DESCRIPTION:Join the Evergreen Aviation & Space Museum as we explore Bessie Coleman’s pioneering journey to become the first Black woman and first Native American descendent to earn a pilot’s license. Coleman’s inspiring life story\, related through a live theatrical performance by her great-niece Gigi Coleman\, encourages individuals to achieve their dreams. \nCome along with us on our 1-Day Barnstormer Camp on February 16th\, from 10 a.m. to 3 p.m. Barnstormer Campers benefit from the live performance of Gigi Coleman in addition to a full day of activities. We honor Bessie’s Flight Training Center legacy by inviting 30 students to join our own Flight Training Center for the day. With adult supervision\, Barnstormer Campers can also enjoy the full museum from 9 a.m. to 5 p.m. outside of camp hours. \nBuy Tickets
URL:https://www.evergreenmuseum.org/event/1-day-barnstormer-camp/
LOCATION:Aviation Museum\, 500 NE Captain MIchael King Smith Way\, McMinnville\, OR\, 97128\, United States
ATTACH;FMTTYPE=image/jpeg:https://www.evergreenmuseum.org/wp-content/uploads/2023/02/Bessie_Coleman_and_her_plane_1922-KO-copy-e1677540663781.jpg
END:VEVENT
BEGIN:VEVENT
DTSTART;TZID=America/Los_Angeles:20240216T151500
DTEND;TZID=America/Los_Angeles:20240216T161500
DTSTAMP:20260421T091718
CREATED:20240215T180415Z
LAST-MODIFIED:20240215T180415Z
UID:24732-1708096500-1708100100@www.evergreenmuseum.org
SUMMARY:Snapology's Planes\, Trains\, & Automobiles
DESCRIPTION:Join Snapology at the iconic Evergreen Aviation and Space Museum to explore the world of transportation in this engaging and fun class! Children will build models of their favorite forms of transportation as they learn about energy\, wheels and axles\, air resistance\, and more. In this session we will focus on airplanes; those teams which are very agile in the completion of their builds will enjoy an extension activity on the space shuttle! \nBUY NOW
URL:https://www.evergreenmuseum.org/event/snapologys-planes-trains-automobiles/
LOCATION:OR
ATTACH;FMTTYPE=image/png:https://www.evergreenmuseum.org/wp-content/uploads/2024/02/7b911e628daf4711a40e3d252f46c7e0_thumbnail@2x.png
END:VEVENT
BEGIN:VEVENT
DTSTART;TZID=America/Los_Angeles:20240220T140000
DTEND;TZID=America/Los_Angeles:20240220T140000
DTSTAMP:20260421T091718
CREATED:20240110T190946Z
LAST-MODIFIED:20240110T191005Z
UID:23636-1708437600-1708437600@www.evergreenmuseum.org
SUMMARY:Storytellers Series: NASA’s Amazing Mission to the Asteroid Belt
DESCRIPTION:Presenter: John Jennings \n\nNASA’s innovative DAWN spacecraft studied the conditions and processes of the solar system’s earliest epoch by investigating in detail two of the largest protoplanets in the Asteroid Belt still remaining intact since their formations: the giant asteroid Vesta and dwarf planet Ceres\, two main asteroid belt worlds that followed very different evolutionary paths. Using exceptionally efficient electric ion propulsion\, DAWN became the first and only spacecraft to orbit two different deep space bodies on the same mission! Come see incredible photos of these two worlds\, what it took to get there\, and what we’ve learned! \n\nLocation: Space Museum Galaxy Theater\n \nCost: Included with Admission
URL:https://www.evergreenmuseum.org/event/storytellers-series-psyche-nasas-mission-to-the-largest-metal-asteroid-2-2/
LOCATION:OR
CATEGORIES:Docent Presentations
ATTACH;FMTTYPE=image/webp:https://www.evergreenmuseum.org/wp-content/uploads/2024/01/Dawn_Artists_Concept.webp
END:VEVENT
END:VCALENDAR