BEGIN:VCALENDAR
VERSION:2.0
PRODID:-//Evergreen Museum - ECPv6.15.18//NONSGML v1.0//EN
CALSCALE:GREGORIAN
METHOD:PUBLISH
X-ORIGINAL-URL:https://www.evergreenmuseum.org
X-WR-CALDESC:Events for Evergreen Museum
REFRESH-INTERVAL;VALUE=DURATION:PT1H
X-Robots-Tag:noindex
X-PUBLISHED-TTL:PT1H
BEGIN:VTIMEZONE
TZID:America/Los_Angeles
BEGIN:DAYLIGHT
TZOFFSETFROM:-0800
TZOFFSETTO:-0700
TZNAME:PDT
DTSTART:20230312T100000
END:DAYLIGHT
BEGIN:STANDARD
TZOFFSETFROM:-0700
TZOFFSETTO:-0800
TZNAME:PST
DTSTART:20231105T090000
END:STANDARD
BEGIN:DAYLIGHT
TZOFFSETFROM:-0800
TZOFFSETTO:-0700
TZNAME:PDT
DTSTART:20240310T100000
END:DAYLIGHT
BEGIN:STANDARD
TZOFFSETFROM:-0700
TZOFFSETTO:-0800
TZNAME:PST
DTSTART:20241103T090000
END:STANDARD
BEGIN:DAYLIGHT
TZOFFSETFROM:-0800
TZOFFSETTO:-0700
TZNAME:PDT
DTSTART:20250309T100000
END:DAYLIGHT
BEGIN:STANDARD
TZOFFSETFROM:-0700
TZOFFSETTO:-0800
TZNAME:PST
DTSTART:20251102T090000
END:STANDARD
END:VTIMEZONE
BEGIN:VEVENT
DTSTART;TZID=America/Los_Angeles:20240416T140000
DTEND;TZID=America/Los_Angeles:20240416T140000
DTSTAMP:20260421T121937
CREATED:20240110T213146Z
LAST-MODIFIED:20240110T213420Z
UID:23648-1713276000-1713276000@www.evergreenmuseum.org
SUMMARY:Storytellers Series: Rockets\, Rockets\, and more Rockets – The Development of Rocket Engines from the Beginning of the Space Age
DESCRIPTION:Presenter: John Jennings \n\nIn order to escape Earth’s powerful gravity well\, we need rockets. For a rocket to go anywhere\, a rocket engine is required. Perfecting the design\, construction\, and launch of rocket engines has continued to this very day. Come learn about the history of liquid and electrical rocket engines\, culminating with the active development of the game changing nuclear thermal rocket! \n\nLocation: Space Museum Galaxy Theater\n \nCost: Included with Admission
URL:https://www.evergreenmuseum.org/event/storytellers-series-psyche-nasas-mission-to-the-largest-metal-asteroid-2-2-2-2/
LOCATION:OR
CATEGORIES:Docent Presentations
ATTACH;FMTTYPE=image/webp:https://www.evergreenmuseum.org/wp-content/uploads/2024/01/draco-4-darpa-nasa-ussf-caption.webp
END:VEVENT
END:VCALENDAR